BEGIN:VCALENDAR
VERSION:2.0
PRODID:iCalendar-Evo
X-WR-TIMEZONE:US/Eastern
BEGIN:VEVENT
DTSTAMP:20260420THI1108Z
URL:https://www.ventnorcity.org/events/97658/
DTSTART;TZID=US/Eastern:20260610T183000
SUMMARY:Ventnor City Planning Board Meeting 
DESCRIPTION:
LOCATION:Ventnor City Hall at 6201 Atlantic Ave, Ventnor City, New Jersey 08406
GEO:39.33778379999994;-74.4797176999999
UID:f00cc95e-e4ce-4ed0-90cf-375edf334f7e20260610T223000@www.ventnorcity.org
END:VEVENT
END:VCALENDAR