BEGIN:VCALENDAR
VERSION:2.0
PRODID:iCalendar-Evo
X-WR-TIMEZONE:US/Eastern
BEGIN:VEVENT
DTSTAMP:20260420THI0016Z
URL:https://www.ventnorcity.org/events/97657/
DTSTART;TZID=US/Eastern:20260513T183000
SUMMARY:Ventnor City Planning Board Meeting
DESCRIPTION:
LOCATION:Ventnor City Hall at 6201 Atlantic Ave, Ventnor City, New Jersey 08406
GEO:39.33778379999994;-74.4797176999999
UID:a2f64eef-0ca5-45f4-b44a-bc094d165f7520260513T223000@www.ventnorcity.org
END:VEVENT
END:VCALENDAR