BEGIN:VCALENDAR
VERSION:2.0
PRODID:iCalendar-Evo
X-WR-TIMEZONE:US/Eastern
BEGIN:VEVENT
DTSTAMP:20260420THI5806Z
URL:https://www.ventnorcity.org/events/97656/
DTSTART;TZID=US/Eastern:20260427T183000
SUMMARY:Ventnor City Planning Board Meeting As Needed
DESCRIPTION:
LOCATION:Ventnor City Hall at 6201 Atlantic Ave, Ventnor City, New Jersey 08406
GEO:39.33778379999994;-74.4797176999999
UID:b35d1507-8502-4e43-a828-fe4b1eb55e6320260427T223000@www.ventnorcity.org
END:VEVENT
END:VCALENDAR