BEGIN:VCALENDAR
VERSION:2.0
PRODID:iCalendar-Evo
X-WR-TIMEZONE:US/Eastern
BEGIN:VEVENT
DTSTAMP:20260420THI1000Z
URL:https://www.ventnorcity.org/events/97606/
DTSTART;TZID=US/Eastern:20260609T183000
SUMMARY:Recreation Board Meeting
DESCRIPTION:The Recreation Board is appointed by the Mayor of Ventnor and made up of city residents. Their duties include : planning, promoting, and administering comprehensive recreational programs for the Ventnor City community. Where & When All meetings are at 6:30 PM in the Ventnor City Recreation Office 311 North Surrey Ave., Ventnor, NJ 08406 2nd Tuesday of each month 
LOCATION:Recreation Complex at 311 N Surrey Ave, Ventnor, New Jersey 08406
GEO:39.340400000031146;-74.47740000002736
UID:f09fd3ff-1421-4a12-853c-1843a13e0ade20260609T223000@www.ventnorcity.org
END:VEVENT
END:VCALENDAR