BEGIN:VCALENDAR
VERSION:2.0
PRODID:iCalendar-Evo
X-WR-TIMEZONE:US/Eastern
BEGIN:VEVENT
DTSTAMP:20260420THI5735Z
URL:https://www.ventnorcity.org/events/97507/
DTSTART;TZID=US/Eastern:20260607T090000
SUMMARY:American Cancer Society Bike-A-Thon
DESCRIPTION:The American Cancer Society Bike-A-Thon begins in Philadelphia and ends in Ventnor. To learn more, visit: https://runsignup.com/Race/PA/Philadelphia/BikeAThon 
UID:dc7a877d-561f-45ef-bd31-ca47c531151f20260607T130000@www.ventnorcity.org
END:VEVENT
END:VCALENDAR