BEGIN:VCALENDAR
VERSION:2.0
PRODID:iCalendar-Evo
X-WR-TIMEZONE:US/Eastern
BEGIN:VEVENT
DTSTAMP:20260420THI5907Z
URL:https://www.ventnorcity.org/events/97480/
DTSTART;TZID=US/Eastern:20260613T050000
DTEND;TZID=US/Eastern:20260613T170000
SUMMARY:Paddle for a Cause - Dean Randazzo Cancer Fundraiser
DESCRIPTION:Fundraiser hosted by the Dean Randazzo Cancer Fundraiser. Visit their Facebook Page to learn more. 
LOCATION:Ski Beach at Dorset Ave & Burke Ave, Ventnor, New Jersey 08406
GEO:39.35233140012652;-74.48683391586594
UID:c4bfff17-3370-4631-93b3-106e89fa2e7b20260613T090000@www.ventnorcity.org
END:VEVENT
END:VCALENDAR