BEGIN:VCALENDAR
VERSION:2.0
PRODID:iCalendar-Evo
X-WR-TIMEZONE:US/Eastern
BEGIN:VEVENT
DTSTAMP:20260420THI1150Z
URL:https://www.ventnorcity.org/events/97479/
DTSTART;TZID=US/Eastern:20260606T090000
SUMMARY:Le Tour de Downbeach
DESCRIPTION:Join us for a family bike ride for your opportunity to enjoy the beauty of our seaside communities. Click here to learn more and register. 
UID:f3e6a2cb-ddc8-45ad-998d-6d41f48433cf20260606T130000@www.ventnorcity.org
END:VEVENT
END:VCALENDAR