BEGIN:VCALENDAR
VERSION:2.0
PRODID:iCalendar-Evo
X-WR-TIMEZONE:US/Eastern
BEGIN:VEVENT
DTSTAMP:20260420THI1037Z
URL:https://www.ventnorcity.org/events/97418/
DTSTART;TZID=US/Eastern:20260525T090000
DTEND;TZID=US/Eastern:20260525T100000
SUMMARY:Memorial Day Remembrance Ceremony 
DESCRIPTION:Pay tribute to the brave men and women who made the ultimate sacrifice for our country. Join us for a solemn ceremony at City Hall as we honor and remember our fallen heroes at 9 a.m. at City Hall outside by the flagpole. 
UID:9101ff5e-2c1d-4d0b-822a-38a33b5a387f20260525T130000@www.ventnorcity.org
END:VEVENT
END:VCALENDAR