BEGIN:VCALENDAR
VERSION:2.0
PRODID:iCalendar-Evo
X-WR-TIMEZONE:US/Eastern
BEGIN:VEVENT
DTSTAMP:20260420THI0108Z
URL:https://www.ventnorcity.org/events/97417/
DTSTART;TZID=US/Eastern:20260529T160000
DTEND;TZID=US/Eastern:20260529T190000
SUMMARY:VHSA Color Run
DESCRIPTION:
LOCATION:Ski Beach at Dorset Ave & Burke Ave, Ventnor, New Jersey 08406
GEO:39.35233140012652;-74.48683391586594
UID:2ecce37b-4288-46f4-8c0a-5dac65cfee7620260529T200000@www.ventnorcity.org
END:VEVENT
END:VCALENDAR