BEGIN:VCALENDAR
VERSION:2.0
PRODID:iCalendar-Evo
X-WR-TIMEZONE:US/Eastern
BEGIN:VEVENT
DTSTAMP:20260420THI0102Z
URL:https://www.ventnorcity.org/events/97416/
DTSTART;TZID=US/Eastern:20260524T090000
SUMMARY:Kenny Wayland Memorial Run/Walk
DESCRIPTION:The annual run honoring former Ventnor City Firefighter Kenny Wayland will be held on Sunday, May 24, 2026. Register for the race at: Kenny Wayland Memorial 5K & 10K Run   
UID:b8635921-31f5-4ba9-9224-910b3ed32f0720260524T130000@www.ventnorcity.org
END:VEVENT
END:VCALENDAR