BEGIN:VCALENDAR
VERSION:2.0
PRODID:iCalendar-Evo
X-WR-TIMEZONE:US/Eastern
BEGIN:VEVENT
DTSTAMP:20260420THI5812Z
URL:https://www.ventnorcity.org/events/97401/
DTSTART;TZID=US/Eastern:20260612T083000
DTEND;TZID=US/Eastern:20260612T120000
SUMMARY:Ventnor City Farmers Market
DESCRIPTION:Fridays from Memorial Day Weekend to Labor Day Weekend, from 8:30 a.m. to 12 noon, at the corner of Newport and Atlantic Avenue. Our market offers Jersey fresh produce, specialty food items, and hand crafts. 
UID:9c9b305d-fa3b-4bca-9692-01724499e08320260612T123000@www.ventnorcity.org
END:VEVENT
END:VCALENDAR