BEGIN:VCALENDAR
VERSION:2.0
PRODID:iCalendar-Evo
X-WR-TIMEZONE:US/Eastern
BEGIN:VEVENT
DTSTAMP:20260420THI5914Z
URL:https://www.ventnorcity.org/events/97400/
DTSTART;TZID=US/Eastern:20260605T083000
DTEND;TZID=US/Eastern:20260605T120000
SUMMARY:Ventnor City Farmers Market
DESCRIPTION:Fridays from Memorial Day Weekend to Labor Day Weekend, from 8:30 a.m. to 12 noon, at the corner of Newport and Atlantic Avenue. Our market offers Jersey fresh produce, specialty food items, and hand crafts. 
UID:13b6786a-56fd-41d1-a95d-036b7290526820260605T123000@www.ventnorcity.org
END:VEVENT
END:VCALENDAR