BEGIN:VCALENDAR
VERSION:2.0
PRODID:iCalendar-Evo
X-WR-TIMEZONE:US/Eastern
BEGIN:VEVENT
DTSTAMP:20260420THI0857Z
URL:https://www.ventnorcity.org/events/97399/
DTSTART;TZID=US/Eastern:20260529T083000
DTEND;TZID=US/Eastern:20260529T120000
SUMMARY:Ventnor City Farmers Market
DESCRIPTION:Fridays from Memorial Day Weekend to Labor Day Weekend, from 8:30 a.m. to 12 noon, at the corner of Newport and Atlantic Avenue. Our market offers Jersey fresh produce, specialty food items, and hand crafts. 
UID:38ddebdd-7580-458b-b223-6afb0bb4b9a220260529T123000@www.ventnorcity.org
END:VEVENT
END:VCALENDAR