BEGIN:VCALENDAR
VERSION:2.0
PRODID:iCalendar-Evo
X-WR-TIMEZONE:US/Eastern
BEGIN:VEVENT
DTSTAMP:20260420THI1026Z
URL:https://www.ventnorcity.org/events/97395/
DTSTART;TZID=US/Eastern:20260523T173000
DTEND;TZID=US/Eastern:20260523T210000
SUMMARY:Kick Off to Summer Concert
DESCRIPTION:This concert will feature Party Wave Band beginning at 6:30 p.m.  Food and vendors open at 5:30 p.m. This concert will be held at Ski Beach located at Dorset and Burk Avenues.  
LOCATION:Ski Beach at Dorset Ave & Burke Ave, Ventnor, New Jersey 08406
GEO:39.35233140012652;-74.48683391586594
UID:82f14870-c6b9-4ce8-8e5f-a12f0612dcb720260523T210000@www.ventnorcity.org
END:VEVENT
END:VCALENDAR