BEGIN:VCALENDAR
VERSION:2.0
PRODID:iCalendar-Evo
X-WR-TIMEZONE:US/Eastern
BEGIN:VEVENT
DTSTAMP:20260420THI1000Z
URL:https://www.ventnorcity.org/events/97393/
DTSTART;TZID=US/Eastern:20260509T100000
DTEND;TZID=US/Eastern:20260509T170000
SUMMARY:Ventnor City Block Party
DESCRIPTION:The annual Spring Block Party will feature crafters, food trucks, a beer garden, live music, and games! Join us from 10 a.m. to 5 p.m. on Ventnor Ave between Troy and Portland Avenues.  
UID:73452aa9-3d85-4b70-8bb6-c92c9cf36a0820260509T140000@www.ventnorcity.org
END:VEVENT
END:VCALENDAR