BEGIN:VCALENDAR
VERSION:2.0
PRODID:iCalendar-Evo
X-WR-TIMEZONE:US/Eastern
BEGIN:VEVENT
DTSTAMP:20260420THI1026Z
URL:https://www.ventnorcity.org/events/97392/
DTSTART;TZID=US/Eastern:20260425T100000
DTEND;TZID=US/Eastern:20260425T120000
SUMMARY:Paper Shredding and Textile Recycling
DESCRIPTION:Ventnor residents can safely shred important documents at Ski Beach. Pull up to the shred truck and your items will be unloaded for you. There is no need for you to exit your vehicle. There will also be a textile recycling collection.    
UID:235a1cea-7dd1-4671-8a86-c660e948cd6a20260425T140000@www.ventnorcity.org
END:VEVENT
END:VCALENDAR