BEGIN:VCALENDAR
VERSION:2.0
PRODID:iCalendar-Evo
X-WR-TIMEZONE:US/Eastern
BEGIN:VEVENT
DTSTAMP:20260420THI5949Z
URL:https://www.ventnorcity.org/events/96734/
DTSTART;TZID=US/Eastern:20260528T173000
SUMMARY:Ventnor City Commission Meeting
DESCRIPTION:VENTNOR CITY COMMISSION MEETING Live Streaming/Remote Public Comment Disclaimer:  The City of Ventnor offers live streaming and the option of public comment via remote access.  Public who participate remotely will be muted during the Commission meeting except during the public comment portions of the meeting.  Any person attempting to disrupt the meeting may be denied access at the discretion of the City.  In the event remote access is unavailable due to a technology malfunction, or other reason beyond the City’s control, the City will not pause or stop the live meeting.  City Commission meetings are held in person and the public is welcome to attend.  The best way to ensure an individual’s ability to publicly comment is to attend in person so that comments may be made in the event of a technology malfunction.  The City reserves the right to discontinue offering public comment via remote access at its discretion for any future meeting.  
LOCATION:Ventnor City Hall at 6201 Atlantic Ave, Ventnor City, New Jersey 08406
GEO:39.33778379999994;-74.4797176999999
UID:145d6f08-3fa2-4649-8f8a-9dc8b28cd1ef20260528T213000@www.ventnorcity.org
END:VEVENT
END:VCALENDAR