BEGIN:VCALENDAR
VERSION:2.0
PRODID:iCalendar-Evo
X-WR-TIMEZONE:US/Eastern
BEGIN:VEVENT
DTSTAMP:20260423THI2559Z
URL:https://www.ventnorcity.org/events/96613/
DTSTART;TZID=US/Eastern:20260101T120000
DTEND;TZID=US/Eastern:20260101T160000
SUMMARY:Polar Plunge and Winter Festival
DESCRIPTION: 
UID:f4cd294c-ae9c-49e1-bad0-7a789eeef9eb20260101T170000@www.ventnorcity.org
END:VEVENT
END:VCALENDAR