BEGIN:VCALENDAR
VERSION:2.0
PRODID:iCalendar-Evo
X-WR-TIMEZONE:US/Eastern
BEGIN:VEVENT
DTSTAMP:20260425THI1327Z
URL:https://www.ventnorcity.org/events/93575/
DTSTART;TZID=US/Eastern:20251219T173000
SUMMARY:Santa Visits Ventnor on Fire Truck
DESCRIPTION:Listen for the sound of fire trucks as Santa Claus pays a special visit to Ventnor residents with the Ventnor City Fire Department on Friday, December 20, beginning at 5:30 p.m.  
UID:38917ffd-d35d-4c2a-b343-c8a13534cb1d20251219T223000@www.ventnorcity.org
END:VEVENT
END:VCALENDAR